BEGIN:VCALENDAR
VERSION:2.0
PRODID:-//wp-events-plugin.com//7.2.3.1//EN
BEGIN:VEVENT
UID:59@novavita.nu
DTSTART:20220428T090000Z
DTEND:20220428T140000Z
DTSTAMP:20220327T184529Z
URL:https://www.novavita.nu/events/workshop-tiffany-glas/
SUMMARY:Workshop Tiffany glas
DESCRIPTION:Voor een aantal mensen is er een workshop Tiffany glas.\nDe wor
 kshop wordt gegeven door ons Novavita-lid Wout de Reus\, daarbij geassiste
 erd door een tweede Tiffany deskundige.\n\nEr zijn diverse voorbeeldjes\, 
 die allemaal gemaakt kunnen worden binnen de beschikbare tijd.\n\n\n\n&nbs
 p\;\n\n\n\n&nbsp\;\n\nDe cursusdatum is 28 april. De workshop duurt van 
 ’s ochtends 10 uur tot 15.00 uur in de middag. Er is slechts plaats voor
  6 deelnemers. En hier geldt: wie het eerst komt\, die het eerst maalt. Ge
 eft je dus snel op als je mee wilt doen.\nAls de belangstelling groot geno
 eg is\, kan Wout op 5 mei a.s. of anders na de zomervakantie nog een tweed
 e workshop organiseren.\n\nDe kosten voor de workshop bedragen € 35. Hie
 rvoor krijg je les\, koffie\, thee\, koek\, materialen en het gebruik van 
 gereedschap. Wel moet je zelf je lunch meenemen.\n\nAls je je werkstuk sne
 l af zou hebben\, is er de mogelijkheid om nog een tweede klein werkstuk t
 e maken. Hier rekenen we € 5 extra voor.\n\nTussendoor laten we zien hoe
  met glasfusing (glas smelten in een oven) werkstukjes ontstaan waar we si
 eraden van maken.\n\n\nActiviteit:                   Wor
 kshop Tiffany\n\nDatum:                       donder
 dag 28 april 2022\n\nTijdstip:                      1
 0.00 – 15.00 uur\n\nAantal deelnemers:   6 deelnemers\n\nKosten:   
                     € 35\,00 p.p. voor 1 werkstuk\n\n
 Plaats:                        Clubhuis “Handen I
 neen”\n\nJohannes Vermeerstraat 2e\n\n1964 EL Heemskerk\n\n\n\nOpgeven v
 ia een mail naar     novavita@novacollege.nl    o.v.v. Tiffany
ATTACH;FMTTYPE=image/jpeg:https://www.novavita.nu/wp-content/uploads/2022/
 03/glas.jpg
END:VEVENT
END:VCALENDAR