BEGIN:VCALENDAR
VERSION:2.0
PRODID:-//wp-events-plugin.com//7.2.3.1//EN
BEGIN:VEVENT
UID:113@novavita.nu
DTSTART:20240326T161500Z
DTEND:20240326T200000Z
DTSTAMP:20240321T144907Z
URL:https://www.novavita.nu/events/diner-nova-restaurant-zijlweg/
SUMMARY:Wine&Dine+ evenement
DESCRIPTION:\n\nNOG ENKELE PLAATSEN BESCHIKBAAR\n\nWe hadden het al aangeko
 ndigd en het gaat ook écht plaatsvinden:\n\n"Het Wine &amp\; Dine+ evene
 ment" op dinsdagavond 26 maart in het Nova Restaurant aan de Zijlweg in Ha
 arlem!\n\nHeerlijk eten in het sfeervolle restaurant waarbij je vóór\, t
 ussen en ná de 4 (!) gangen ook nog je kennis van wijn kunt bijspijkeren 
 dan wel kunt laten blijken.\n\n\n\n\nDe avond kent de volgende opzet:\n\nT
 ussen 17:15 en 17:30 uur -en dit luistert nauw i.v.m. het strakke programm
 a- word jij (en je eventuele introducé!) door horecastudenten en door wij
 nkenner/liefhebber Aloys Wijckmans ontvangen met een heerlijk glaasje mous
 serende wijn.\n\n\n\n\nAloys zal vóór\, tussen en ná de culinaire prest
 aties van de keukenbrigade\, op passievolle wijze vertellen over wijnen en
  je kennis laten maken met passende wijnen bij de gerechten.\n\n\n\n\nIn h
 et veld "Opmerkingen" kun je tijdens het reserveren aangeven of je liever 
 kiest voor de (4-gangen) variant "Vegetarisch". Zonder opmerkingen\, gaan 
 wij uit van het standaard menu.\n\n\n\n\nBijzonder aan de avond is verder 
 dat er een "pubquiz-achtig" of liever gezegd "Novaquiz-achtig "element is 
 ingebouwd met soms serieuze\, soms triviale vragen over het edele vocht en
  de bereiding ervan. Hoofdprijs: een dinerbon voor 2 personen\, beschikbaa
 r gesteld door de hotelschool en te nuttigen in het Nova Restaurant!\n\nDi
 t alles voor een all-in prijs van 30 euro per persoon. Deze prijs geldt ev
 eneens voor de introducé/partner die door jou\, als lid van Novavita\, ma
 g worden meegenomen.\n\n\nAanmelden en betalen kan vanaf nu tot en met don
 derdag 14 maart via www.novavita.nu. Vergeet niet in het vak OPMERKINGEN 
 de eventueel vegetarische menukeuze van jou en/of je introducé aan te gev
 en. Graag je betaling doen op bankrekeningnummer  NL84 INGB 0754 6528 82
  t.n.v. A.L. Damiaans.\n\nNa 14 maart\, maar uiterlijk tot maandag 18 maar
 t\, zal de aanmelding ook open worden gesteld voor huidige werknemers van 
 het Nova College.\n\nNog even de "spelregels":\n\n\n\n 	De inschrijving is
  definitief als de 30 euro pp is overgemaakt\;\n 	Parkeren kan op het terr
 ein van het Nova College. Carpooling wordt aanbevolen\;\n 	Kom aub op tijd
  i.v.m. de strakke opzet van het programma (17:15 - 21:00 uur)\;\n 	30 eur
 o is het vaste tarief\, ook als er i.p.v. wijn water wordt genuttigd.   
  Andere drankjes dan wijn dienen aan het eind van de avond in het restaur
 ant afgerekend te worden\;\n 	De (eventueel gewonnen) dinerbon is niet teg
 en geld inwisselbaar\;\n 	Van de vooraf gemaakte dinerkeuze -Standaard of 
 Vegetarisch- kan tijdens de avond niet afgeweken worden.\n\nAarzel niet en
  schrijf je snel in voor dit bijzondere evenement!
LOCATION:Nova College\, Zijlweg 203\, Haarlem\, N.H.\, Nederland
GEO:52.387351;4.616294700000026
X-APPLE-STRUCTURED-LOCATION;VALUE=URI;X-ADDRESS=Zijlweg 203\, Haarlem\, N.H
 .\, Nederland;X-APPLE-RADIUS=100;X-TITLE=Nova College:geo:52.387351,4.6162
 94700000026
END:VEVENT
END:VCALENDAR