BEGIN:VCALENDAR
VERSION:2.0
PRODID:-//wp-events-plugin.com//7.2.3.1//EN
BEGIN:VEVENT
UID:23@novavita.nu
DTSTART:20190220T120000Z
DTEND:20190220T133000Z
DTSTAMP:20190218T202024Z
URL:https://www.novavita.nu/events/bijeenkomst-activiteiten-2019/
SUMMARY:Bijeenkomst activiteiten 2019
DESCRIPTION:&nbsp\;\n\n&nbsp\;\n\nAanstaande woensdag\, 20 februari 13.00 u
 ur\, is er een bijeenkomst van en voor de leden van Novavita om de activit
 eiten voor het komende jaar te bespreken. De vergadering vindt plaats in d
 e vergaderruimte op de Laurens Baecklaan 25 te Beverwijk (na de ingang heb
  je aan je rechterhand eerst de personeelskamer\, daarna de vergaderruimte
 ). Je bent van harte welkom om een duit in het zakje te doen.\n\nDe agenda
  ziet er als volgt uit:\n\n 	Welkom\n 	Voorstelrondje\n 	Inventarisatie ni
 euwe ideeën\n 	Bespreken ideeën in portefeuille (zie bijlage)\n\n-welk i
 dee kiezen we om uit te voeren?\n\n- wanneer laten we de activiteit plaats
 vinden?\n\n- wie organiseert wat?\n\n 	Rondvraag\n 	Sluiting\n\nUiteraard 
 hoop ik op een grote opkomst (een achttal mensen heeft zich al opgegeven).
  Natuurlijk blijft het mogelijk om suggesties ook per mail naar ons op te 
 sturen: novavita@novacollege.nl\n\nVriendelijke groet\,\n\nHuub Oostendorp
 \n\n&nbsp\;\n\n&nbsp\;\n\n\n\nSuggesties\n\n\n\n\n\n\n\n\n\nBezoek Huis va
 n Hilde\nRon Sluijs\nmei 2019\n\n\nBezoek Wijndomein De Koen\nCoby Bart\nv
 oorjaar 2019\n\n\nRondleiding Nieuwe Bavo\nCorry Sprangers\nnajaar 2019\n\
 n\nMonnikenpad Egmond\nRon Sluijs\n\n\n\nKookcursus voor beginners\nKlaas 
 Deuten\nápril2019\n\n\nRondleiding De Wallen\nGert Wenning\n\n\n\nAutopuz
 zeltocht Kop van Noord Holland\nGert Wenning\n\n\n\nBezoek Stoomschip Rott
 erdam\nJan Nicolai\n\n\n\nWandeling Gildegids Utrecht (Jugendstil)\nTrees 
 de Rooij\n\n\n\nRondleiding Bavokerk+ toren Haarlem\nEmmy Meijer\n\n\n\nRo
 ndleing Bibliotheek UvA\nHenriëtte Snijder\n\n\n\nCursus Reanimeren\nHenr
 iëtte Snijder\n\n\n\nLezing Boeddhistische kloosterorden\nCees Versteeg\n
 \n\n\nDe Meerlanden Compostenergie\nHenriëtte Snijder\n\n\n\nMolen van Sl
 oten\nJacqueline Oomen\n\n\n\nOranjehotel\nHenk van der Meulen\n\n\n\nRond
 leiding Paviljoen Welgelegen\nAnnelies Homburg\n\n\n\nLezing Ned. Arbeider
 s in Duitsland\nAnk Engel\n\n\n\nABC Architectuurcentrum Haarlem\nAnky Fra
 nken\n\n\n\n\n\n\n\n\n\n\n\n\n\n\n\n\n\n\n\n\n\n\n\n\n\n\n\n\n\n\n\n\n\n\n
 \n\n\n\n\n\n\n\n\n\n\n\n\n\n\n\n\n\n\n\n\n\n\n\n\n\n\n\n\n\n\n\n\n\n\n\n\n
 \n\n\n&nbsp\;
ATTACH;FMTTYPE=image/jpeg:https://www.novavita.nu/wp-content/uploads/2018/
 12/logozwart.jpg
LOCATION:Nova College Beverwijk\, Laurens Baecklaan 25\, Beverwijk\, Nederl
 and
GEO:52.4806495;4.6449124000000665
X-APPLE-STRUCTURED-LOCATION;VALUE=URI;X-ADDRESS=Laurens Baecklaan 25\, Beve
 rwijk\, Nederland;X-APPLE-RADIUS=100;X-TITLE=Nova College Beverwijk:geo:52
 .4806495,4.6449124000000665
END:VEVENT
END:VCALENDAR